BEGIN:VCALENDAR
PRODID:-//eluceo/ical//2.0/EN
VERSION:2.0
CALSCALE:GREGORIAN
BEGIN:VEVENT
UID:bdf68cd60dc4de0c81d9f183fb3ae898
DTSTAMP:20260421T090411Z
SUMMARY:BEBY Purim Carnival
DESCRIPTION:UJA Federation of Greater Toronto\nJewish Toronto Calendar\nhtt
 ps://jewishtoronto.com/calendar/beby-purim-carnival\n\nFees: $ 5.00 - Per
 son $ 20.00 - Family
DTSTART;TZID=America/Toronto:20140316T143000
DTEND;TZID=America/Toronto:20140316T163000
END:VEVENT
END:VCALENDAR
