BEGIN:VCALENDAR
PRODID:-//eluceo/ical//2.0/EN
VERSION:2.0
CALSCALE:GREGORIAN
BEGIN:VEVENT
UID:b988ac7aef33253afae3d926af6d5aa9
DTSTAMP:20260421T142931Z
SUMMARY:BEBY Judaism Sustainable Food Systems the Story of My Lunch
DESCRIPTION:UJA Federation of Greater Toronto\nJewish Toronto Calendar\nhtt
 ps://jewishtoronto.com/calendar/beby-judaism-sustainable-food-systems-the-
 story-of-my-lunch\n\nWith Guest Speaker: Tamar Maerim Yunger of Shoresh En
 vironmental Programs
DTSTART;TZID=America/Toronto:20140324T200000
DTEND;TZID=America/Toronto:20140324T223000
END:VEVENT
END:VCALENDAR
