BEGIN:VCALENDAR
PRODID:-//eluceo/ical//2.0/EN
VERSION:2.0
CALSCALE:GREGORIAN
BEGIN:VEVENT
UID:2c9330523f8183a09f639d77e1477146
DTSTAMP:20260423T003452Z
SUMMARY:BEBY Brotherhood Worldwide Wrap
DESCRIPTION:UJA Federation of Greater Toronto\nJewish Toronto Calendar\nhtt
 ps://jewishtoronto.com/calendar/beby-brotherhood-worldwide-wrap-1579620768
 \n\nBeth Emeth will be joining Men's Clubs worldwide for the 21st annual W
 orld Wide Wrap\, in appreciation of and participation in the mitzvah of wr
 apping tefillin.\n\n8 am Shacharit service followed by breakfast and speak
 er/lecture to follow:\n\nHow I Met My Father: Insights to Tracing Your Roo
 ts: An Introduction to Genealogy.\n\nWe will be joined by Jerry Scherer of
  The Jewish Genealogical Society of Toronto who will give an introduction 
 to DNA testing. As well our very own Norm Wolter will...
DTSTART;TZID=America/Toronto:20200202T080000
DTEND;TZID=America/Toronto:20200202T110000
END:VEVENT
END:VCALENDAR
