BEGIN:VCALENDAR
PRODID:-//eluceo/ical//2.0/EN
VERSION:2.0
CALSCALE:GREGORIAN
BEGIN:VEVENT
UID:b8387b7889af9c0e908479c6a209ea7b
DTSTAMP:20260419T200554Z
SUMMARY:Baycrest: Toronto Jewish Archives Film Screening
DESCRIPTION:UJA Federation of Greater Toronto\nJewish Toronto Calendar\nhtt
 ps://jewishtoronto.com/calendar/baycrest-toronto-jewish-archives-film-scre
 ening-1725411267\n\nThis project has been generously sponsored by Monty Ro
 bbins and the Miriam and Larry Robbins Foundation. \nJoin us for the Toron
 to Jewish Video Archives (TJVA) film screening highlighting the history of
  the Jewish community in Toronto\, with a special focus on Baycrest. The f
 ilm features stories capturing the impact of the Jewish community on Toron
 to and the experiences that shaped their lives. \n\nFor more information\,
  email: tjva@baycrest.org
DTSTART;TZID=America/Toronto:20241111T000000
DTEND;TZID=America/Toronto:20241112T235959
END:VEVENT
END:VCALENDAR
