BEGIN:VCALENDAR
PRODID:-//eluceo/ical//2.0/EN
VERSION:2.0
CALSCALE:GREGORIAN
BEGIN:VEVENT
UID:d265795b75f6a37ac87a894671da84b1
DTSTAMP:20260419T221034Z
SUMMARY:Baycrest Teen Takeover Event
DESCRIPTION:UJA Federation of Greater Toronto\nJewish Toronto Calendar\nhtt
 ps://jewishtoronto.com/calendar/baycrest-teen-takeover-event-1730651808\n\
 nAn opportunity for teens to come to Baycrest and volunteer with residents
 .
DTSTART;TZID=America/Toronto:20250302T140000
DTEND;TZID=America/Toronto:20250302T170000
END:VEVENT
END:VCALENDAR
