BEGIN:VCALENDAR
PRODID:-//eluceo/ical//2.0/EN
VERSION:2.0
CALSCALE:GREGORIAN
BEGIN:VEVENT
UID:26c5a240b5876c731e0ac8ad704721df
DTSTAMP:20260420T160447Z
SUMMARY:Baycrest Pro-Am for Alzheimer's
DESCRIPTION:UJA Federation of Greater Toronto\nJewish Toronto Calendar\nhtt
 ps://jewishtoronto.com/calendar/baycrest-pro-am-for-alzheimers-1717524849\
 n\nThe 19th annual Baycrest Pro-Am for Alzheimer's event will take place f
 rom May 1-3\, 2025. Amateur hockey players with play will lace up their sk
 ates to play alongside former NHL Alumni and Olympians for an amazing week
 end of hockey. The funds raised from this event will go back to Baycrest H
 ospital for Alzheimer's research and Innovation.
DTSTART;TZID=America/Toronto:20250501T180000
DTEND;TZID=America/Toronto:20250503T170000
END:VEVENT
END:VCALENDAR
