BEGIN:VCALENDAR
PRODID:-//eluceo/ical//2.0/EN
VERSION:2.0
CALSCALE:GREGORIAN
BEGIN:VEVENT
UID:e9f6221dbe1585a37554ea3fff452e79
DTSTAMP:20260420T200120Z
SUMMARY:Baycrest in Florida
DESCRIPTION:UJA Federation of Greater Toronto\nJewish Toronto Calendar\nhtt
 ps://jewishtoronto.com/calendar/baycrest-in-florida-1542725874\n\nThis yea
 r's Baycrest in Florida dinner event
DTSTART;TZID=America/Toronto:20190210T170000
DTEND;TZID=America/Toronto:20190210T200000
END:VEVENT
END:VCALENDAR
