BEGIN:VCALENDAR
PRODID:-//eluceo/ical//2.0/EN
VERSION:2.0
CALSCALE:GREGORIAN
BEGIN:VEVENT
UID:d9567426bf74e38ed25312d00733047f
DTSTAMP:20260421T011628Z
SUMMARY:Baycrest Foundation Annual Board Meeting
DESCRIPTION:UJA Federation of Greater Toronto\nJewish Toronto Calendar\nhtt
 ps://jewishtoronto.com/calendar/baycrest-foundation-annual-board-meeting-1
 748980368\n\nAnnual Members meeting of the Baycrest Foundation Board of Di
 rectors.\nMembers portion of the meeting will take place from 3pm to 4:30p
 m. RSVP by June 12.\nCopies of the agenda are available by contacting Pame
 la Isen at 416-785-2500 x3166 or pisen@baycrest.org
DTSTART;TZID=America/Toronto:20250619T033000
DTEND;TZID=America/Toronto:20250619T040000
END:VEVENT
END:VCALENDAR
