BEGIN:VCALENDAR
PRODID:-//eluceo/ical//2.0/EN
VERSION:2.0
CALSCALE:GREGORIAN
BEGIN:VEVENT
UID:3f61c668f3c16ed1d6d16f4e11cef40c
DTSTAMP:20260421T000408Z
SUMMARY:Baycrest Foundation - Red Carpet Stage and Screen Series Event #4
DESCRIPTION:UJA Federation of Greater Toronto\nJewish Toronto Calendar\nhtt
 ps://jewishtoronto.com/calendar/baycrest-foundation---red-carpet-stage-and
 -screen-series-event-4-1469808675\n\nFilm Screening. Final event in the se
 ries of 4 events.
DTSTART;TZID=America/Toronto:20171019T190000
DTEND;TZID=America/Toronto:20171019T223000
END:VEVENT
END:VCALENDAR
