BEGIN:VCALENDAR
PRODID:-//eluceo/ical//2.0/EN
VERSION:2.0
CALSCALE:GREGORIAN
BEGIN:VEVENT
UID:64a6f35c25b77d4fc7ac5a8ce9cabbe3
DTSTAMP:20260420T103927Z
SUMMARY:Baycrest Charity Golf Classic
DESCRIPTION:UJA Federation of Greater Toronto\nJewish Toronto Calendar\nhtt
 ps://jewishtoronto.com/calendar/baycrest-charity-golf-classic-1692908089\n
 \nThe 7th annual Baycrest Charity Golf Classic.
DTSTART;TZID=America/Toronto:20240617T090000
DTEND;TZID=America/Toronto:20240617T190000
END:VEVENT
END:VCALENDAR
