BEGIN:VCALENDAR
PRODID:-//eluceo/ical//2.0/EN
VERSION:2.0
CALSCALE:GREGORIAN
BEGIN:VEVENT
UID:3d28d0195d1c282c11848f387262ce18
DTSTAMP:20260421T192107Z
SUMMARY:Baycrest Centennial Launch Event
DESCRIPTION:UJA Federation of Greater Toronto\nJewish Toronto Calendar\nhtt
 ps://jewishtoronto.com/calendar/baycrest-centennial-launch-event-151188218
 7\n\nBaycrest's Centennial Launch event. Details coming soon.
DTSTART;TZID=America/Toronto:20180514T180000
DTEND;TZID=America/Toronto:20180514T210000
END:VEVENT
END:VCALENDAR
