BEGIN:VCALENDAR
PRODID:-//eluceo/ical//2.0/EN
VERSION:2.0
CALSCALE:GREGORIAN
BEGIN:VEVENT
UID:5eb81277831af4d2d14ffdeb38d3c9d7
DTSTAMP:20260422T054413Z
SUMMARY:Baycrest - Shall We Dance
DESCRIPTION:UJA Federation of Greater Toronto\nJewish Toronto Calendar\nhtt
 ps://jewishtoronto.com/calendar/baycrest---shall-we-dance-1725475582\n\nKa
 lifer Culture Hub New Exhibit Opening\n\nCurtains Up: Highlights from Danc
 e Collection Danse\nFeatures treasured artifacts and images from Canada’
 s national dance heritage collection.\n&\nGotta Dance: The Exotic Language
  of the Body\nExplore the world of bodies in motion through a curated and 
 multi-sensory photography exhibition by artist Beverley Abramson.\n\n \n\
 nRSVP Required.
DTSTART;TZID=America/Toronto:20241106T183000
DTEND;TZID=America/Toronto:20241106T203000
END:VEVENT
END:VCALENDAR
