BEGIN:VCALENDAR
PRODID:-//eluceo/ical//2.0/EN
VERSION:2.0
CALSCALE:GREGORIAN
BEGIN:VEVENT
UID:cb6543cca3fea06e40c07e466201155d
DTSTAMP:20260420T090104Z
SUMMARY:Baycrest - Bubby's Blooms Passover Drive-Thru Flower Sale
DESCRIPTION:UJA Federation of Greater Toronto\nJewish Toronto Calendar\nhtt
 ps://jewishtoronto.com/calendar/baycrest---bubbys-blooms-passover-drive-th
 ru-flower-sale-1646678631\n\nThe safety and well-being of everyone in our 
 Baycrest community is our first priority. This includes you\, our Bubby’
 s Blooms supporters.\n\n“Be part of a mitzvah for something special!” 
 says Sarah Krybus Fishman\, Bubby’s Blooms’ founder and organizer\, a 
 long-time Baycrest friend.\n\nBaycrest and Bubby’s Blooms have found a w
 ay to offer the Passover holiday flowers you have come to enjoy through th
 e years\, while exercising COVID-19 precautions.\n\nSaturday\, April 15 fr
 om 9 a.m. to ...
DTSTART;TZID=America/Toronto:20220415T090000
DTEND;TZID=America/Toronto:20220415T130000
END:VEVENT
END:VCALENDAR
