BEGIN:VCALENDAR
PRODID:-//eluceo/ical//2.0/EN
VERSION:2.0
CALSCALE:GREGORIAN
BEGIN:VEVENT
UID:7b60780239ea63a92e70fb6f0c01e1ee
DTSTAMP:20260421T222615Z
SUMMARY:Baycrest - Bubby's Blooms Passover Drive-Thru Flower Sale
DESCRIPTION:UJA Federation of Greater Toronto\nJewish Toronto Calendar\nhtt
 ps://jewishtoronto.com/calendar/baycrest---bubby-blooms-passover-drive-thr
 u-flower-sale-1614973910\n\nLocation: Baycrest\, Kimel Entrance\n\nThe sa
 fety and well-being of everyone in our Baycrest community is our first pri
 ority. This includes you\, our Bubby’s Blooms supporters.\n\n“Be part 
 of a mitzvah for something special!” says Sarah Krybus Fishman\, Bubby
 ’s Blooms’ founder and organizer\, a long-time Baycrest friend.\n\nBay
 crest and Bubby’s Blooms have found a way to offer the Passover holiday 
 flowers you have come to enjoy through the years\, while exercising COVID-
 19 precautions...
DTSTART;TZID=America/Toronto:20210326T080000
DTEND;TZID=America/Toronto:20210326T140000
END:VEVENT
END:VCALENDAR
