BEGIN:VCALENDAR
PRODID:-//eluceo/ical//2.0/EN
VERSION:2.0
CALSCALE:GREGORIAN
BEGIN:VEVENT
UID:60f37c3f0b98efea727f1a1faed1ae43
DTSTAMP:20260421T085938Z
SUMMARY:Bathurst-Finch Hub City Budget Town Hall Meeting
DESCRIPTION:UJA Federation of Greater Toronto\nJewish Toronto Calendar\nhtt
 ps://jewishtoronto.com/calendar/bathurst-finch-hub-city-budget-town-hall-m
 eeting-1548728842\n\nWhy does the City's budget matter? Join us to learn h
 ow the 2019 City Budget will impact community services. Hear from experts 
 in public transit\, long-term care homes\, seniors issue and housing. This
  event is part of the City Budget Learning Series. Part II of this series 
 is our Deputation Training Workshop on Wednesday February 8\, from 6:00 pm
  to 8:00 pm at the Bathurst Finch Hub\, 540 Finch Avenue West.
DTSTART;TZID=America/Toronto:20190204T180000
DTEND;TZID=America/Toronto:20190204T203000
END:VEVENT
END:VCALENDAR
