BEGIN:VCALENDAR
PRODID:-//eluceo/ical//2.0/EN
VERSION:2.0
CALSCALE:GREGORIAN
BEGIN:VEVENT
UID:72c0b17ed52ad72f9c64371ab14e41ae
DTSTAMP:20260421T203749Z
SUMMARY:Barre Belle
DESCRIPTION:UJA Federation of Greater Toronto\nJewish Toronto Calendar\nhtt
 ps://jewishtoronto.com/calendar/barre-belle-1576083277\n\nJF&CS Emerging L
 eaders Event\nhttps://www.jfcsemergingleaders.com/sweat\n$30 per ticket
DTSTART;TZID=America/Toronto:20200126T020000
DTEND;TZID=America/Toronto:20200126T040000
END:VEVENT
END:VCALENDAR
