BEGIN:VCALENDAR
PRODID:-//eluceo/ical//2.0/EN
VERSION:2.0
CALSCALE:GREGORIAN
BEGIN:VEVENT
UID:f8dbf2fe6f8f810226f62d12176b3cd7
DTSTAMP:20260421T051005Z
SUMMARY:Bang & Olufsen Yorkville Run
DESCRIPTION:UJA Federation of Greater Toronto\nJewish Toronto Calendar\nhtt
 ps://jewishtoronto.com/calendar/bang-olufsen-yorkville-run\n\n“The B&O Y
 orkville Run is a premier\, boutique\, 5K race that takes place in the bea
 utiful Yorkville community every September. It unites elite and local runn
 ers and businesses to raise funds for local programs and initiatives. Sin
 ce its inception in 2010\, the B&O Yorkville Run has raised over $360\,000
  for YWCA Toronto in support of its Elm Centre and women’s shelters\, Mo
 unt Sinai Hospital\, Prostate Cancer Canada\, and Jesse Ketchum Public Sch
 ool. In addition to its fundraising achievements...
DTSTART;TZID=America/Toronto:20150913T094500
DTEND;TZID=America/Toronto:20150913T110000
END:VEVENT
END:VCALENDAR
