BEGIN:VCALENDAR
PRODID:-//eluceo/ical//2.0/EN
VERSION:2.0
CALSCALE:GREGORIAN
BEGIN:VEVENT
UID:ea165534a5d5d3c8f5951bda33054e28
DTSTAMP:20260421T142503Z
SUMMARY:Bais Yaakov Elementary School Dinner
DESCRIPTION:UJA Federation of Greater Toronto\nJewish Toronto Calendar\nhtt
 ps://jewishtoronto.com/calendar/bais-yaakov-elementary-school-dinner\n\nMo
 re details to follow.\n\n 
DTSTART;TZID=America/Toronto:20150519T180000
DTEND;TZID=America/Toronto:20150519T213000
END:VEVENT
END:VCALENDAR
