BEGIN:VCALENDAR
PRODID:-//eluceo/ical//2.0/EN
VERSION:2.0
CALSCALE:GREGORIAN
BEGIN:VEVENT
UID:72ce26cf3eea7219bad7831401f3c229
DTSTAMP:20260424T132342Z
SUMMARY:Babies\, Blessings and Shabbat Fun: Workshops for Parents
DESCRIPTION:UJA Federation of Greater Toronto\nJewish Toronto Calendar\nhtt
 ps://jewishtoronto.com/calendar/babies-blessings-and-shabbat-fun-workshops
 -for-parents-1608599407\n\nParents of babies are invited to join us each m
 onth for interesting workshops related to baby sleeping\, parenthood and m
 ore.
DTSTART;TZID=America/Toronto:20210108T113000
DTEND;TZID=America/Toronto:20210108T123000
END:VEVENT
END:VCALENDAR
