BEGIN:VCALENDAR
PRODID:-//eluceo/ical//2.0/EN
VERSION:2.0
CALSCALE:GREGORIAN
BEGIN:VEVENT
UID:117476cf46f95e21f2014cdb9f4420e5
DTSTAMP:20260424T020239Z
SUMMARY:Babies\, Blessings and Shabbat Fun Parent Workshops
DESCRIPTION:UJA Federation of Greater Toronto\nJewish Toronto Calendar\nhtt
 ps://jewishtoronto.com/calendar/babies-blessings-and-shabbat-fun-parent-wo
 rkshops-1612206740\n\nParents of babies aged 1 to 3 are invited to join us
  for special parenting workshop! We will be covering a variety of topics i
 ncluding infant sleeping habits\, nap transition and parenthood.\n\nTopics
  include:\nTransitioning to a new bed or a new room\nMaking the 2-1 nap tr
 ansition\, and how to transition out of naps for good\n\nPre-registration 
 required to Shirel @ sbarkan@beth-tzedec.org.
DTSTART;TZID=America/Toronto:20210205T123000
DTEND;TZID=America/Toronto:20210205T133000
END:VEVENT
END:VCALENDAR
