BEGIN:VCALENDAR
PRODID:-//eluceo/ical//2.0/EN
VERSION:2.0
CALSCALE:GREGORIAN
BEGIN:VEVENT
UID:a2eed94d11700c569c666bdedfedf3cb
DTSTAMP:20260424T005141Z
SUMMARY:Babies\, Blessings and Shabbat Fun
DESCRIPTION:UJA Federation of Greater Toronto\nJewish Toronto Calendar\nhtt
 ps://jewishtoronto.com/calendar/babies-blessings-and-shabbat-fun-166679067
 8\n\nJoin us at Beth Tzedec on Fridays as we welcome Shabbat with a 45-min
 ute music class featuring Shabbat songs and blessings\, ẖallah\, grape j
 uice and lots of fun. We are pleased to partner with L&#039\;Dance Classes
  for this special weekly experience for children up to 18 months old\, acc
 ompanied by an adult caregiver.\n\nThe Fall 2022 term runs from October 14
  to December 16 (10 sessions). Cost: $180 for fall series.
DTSTART;TZID=America/Toronto:20221028T111500
DTEND;TZID=America/Toronto:20221028T120000
END:VEVENT
END:VCALENDAR
