BEGIN:VCALENDAR
PRODID:-//eluceo/ical//2.0/EN
VERSION:2.0
CALSCALE:GREGORIAN
BEGIN:VEVENT
UID:648d5adf2947bdd8f97e3f76a7a73c26
DTSTAMP:20260419T164726Z
SUMMARY:Awake Zion: film screening
DESCRIPTION:UJA Federation of Greater Toronto\nJewish Toronto Calendar\nhtt
 ps://jewishtoronto.com/calendar/awake-zion-film-screening-138870\n\nWhat i
 t means to be Jewish? What it means to be Rasta and the universal search o
 f what it means to be home. The movie is a journey between Brooklyn\, Jama
 ica and Israel. 
DTSTART;TZID=America/Toronto:20150416T193000
DTEND;TZID=America/Toronto:20150416T220000
END:VEVENT
END:VCALENDAR
