BEGIN:VCALENDAR
PRODID:-//eluceo/ical//2.0/EN
VERSION:2.0
CALSCALE:GREGORIAN
BEGIN:VEVENT
UID:90dd812fb5adae649f7007c0c718fde3
DTSTAMP:20260421T175853Z
SUMMARY:Autumn Dance for Singles 50+
DESCRIPTION:UJA Federation of Greater Toronto\nJewish Toronto Calendar\nhtt
 ps://jewishtoronto.com/calendar/autumn-dance-for-singles-50-1508361475\n\n
 Beth David Singles50Plus invites the Toronto Jewish singles' community (ag
 es 50+) to an "Autumn Dance" featuring live music by ARKADI and SVETLANA\,
  who will be singing songs from the 1960s to the 1980s for your listening 
 and dancing pleasure.  Come to meet friends and make new acquaintances in 
 a warm and friendly atmosphere.
DTSTART;TZID=America/Toronto:20171029T193000
DTEND;TZID=America/Toronto:20171029T223000
END:VEVENT
END:VCALENDAR
