BEGIN:VCALENDAR
PRODID:-//eluceo/ical//2.0/EN
VERSION:2.0
CALSCALE:GREGORIAN
BEGIN:VEVENT
UID:674436c763b1d78d88c7746dd157fc4e
DTSTAMP:20260419T152209Z
SUMMARY:Autism Spectrum Disorders at Beth Tikvah Synagogue
DESCRIPTION:UJA Federation of Greater Toronto\nJewish Toronto Calendar\nhtt
 ps://jewishtoronto.com/calendar/autism-spectrum-disorders-at-beth-tikvah-s
 ynagogue-1457540925\n\nOpening the Door to Knowledge and Understanding\n\n
 Join Beth Tikvah for an evening of information and discussion featuring fo
 ur experts in the field of Autism Spectrum Disorders including diagnosis\,
  health\, sleep and sensory issues.\n\nMembers–No Charge\nNon-Members–
 $5.00\n\nOur presenters are highly respected professionals in the field fr
 om Bloorview Childrens' Rehabilitation Centre:\nPamela Green\, R.N.\, Cath
 y Petta\, R.N.\, Selena Eldon\, Research Coordinator\, and special guest\,
  Brenda Rot...
DTSTART;TZID=America/Toronto:20160405T200000
DTEND;TZID=America/Toronto:20160405T220000
END:VEVENT
END:VCALENDAR
