BEGIN:VCALENDAR
PRODID:-//eluceo/ical//2.0/EN
VERSION:2.0
CALSCALE:GREGORIAN
BEGIN:VEVENT
UID:041ae051544c5b915173a9762567cd91
DTSTAMP:20260421T092506Z
SUMMARY:Associated Hebrew Schools - Kamin Open House
DESCRIPTION:UJA Federation of Greater Toronto\nJewish Toronto Calendar\nhtt
 ps://jewishtoronto.com/calendar/associated-hebrew-schools-kamin-open-house
 \n\nKamin Open House\n\n300 Atkinson Ave\, Thornhill\n\nTuesday October 27
 \n7:30 pm - 9:30 pm\n\n 
DTSTART;TZID=America/Toronto:20151018T193000
DTEND;TZID=America/Toronto:20151018T213000
END:VEVENT
END:VCALENDAR
