BEGIN:VCALENDAR
PRODID:-//eluceo/ical//2.0/EN
VERSION:2.0
CALSCALE:GREGORIAN
BEGIN:VEVENT
UID:1bece374cdc78d23add0a63199e80305
DTSTAMP:20260421T153859Z
SUMMARY:Associated Hebrew Schools invites you to Singing with Sonshine
DESCRIPTION:UJA Federation of Greater Toronto\nJewish Toronto Calendar\nhtt
 ps://jewishtoronto.com/calendar/associated-hebrew-schools-invites-you-to-s
 inging-with-sonshine-1\n\nAssociated Hebrew Schools invites you to Singing
  with Sonshine
DTSTART;TZID=America/Toronto:20150125T100000
DTEND;TZID=America/Toronto:20150125T113000
END:VEVENT
END:VCALENDAR
