BEGIN:VCALENDAR
PRODID:-//eluceo/ical//2.0/EN
VERSION:2.0
CALSCALE:GREGORIAN
BEGIN:VEVENT
UID:43e8b682cb1217a6147e098413a41305
DTSTAMP:20260421T012014Z
SUMMARY:Associated Hebrew Schools Grade 8 Graduation
DESCRIPTION:UJA Federation of Greater Toronto\nJewish Toronto Calendar\nhtt
 ps://jewishtoronto.com/calendar/associated-hebrew-schools-grade-8-graduati
 on-1750094660\n\nDanilack Middle School Graduation
DTSTART;TZID=America/Toronto:20250622T190000
DTEND;TZID=America/Toronto:20250622T210000
END:VEVENT
END:VCALENDAR
