BEGIN:VCALENDAR
PRODID:-//eluceo/ical//2.0/EN
VERSION:2.0
CALSCALE:GREGORIAN
BEGIN:VEVENT
UID:a025cb863d5b0709ec8cebb4ed782485
DTSTAMP:20260421T154405Z
SUMMARY:Associated Hebrew Schools - Parent-Teacher Conferences (Kamin and P
 osluns)
DESCRIPTION:UJA Federation of Greater Toronto\nJewish Toronto Calendar\nhtt
 ps://jewishtoronto.com/calendar/associated-hebrew-schools---parent-teacher
 -conferences-kamin-and-posluns-1718900274\n\nAssociated Hebrew Schools - P
 arent-Teacher Conferences (Kamin and Posluns)
DTSTART;TZID=America/Toronto:20250328T100000
DTEND;TZID=America/Toronto:20250328T180000
END:VEVENT
END:VCALENDAR
