BEGIN:VCALENDAR
PRODID:-//eluceo/ical//2.0/EN
VERSION:2.0
CALSCALE:GREGORIAN
BEGIN:VEVENT
UID:5c984d90b6a09d35dc6e1a7379dae218
DTSTAMP:20260424T020936Z
SUMMARY:Associated Hebrew Schools - Parent-Teacher Conferences (Kamin and P
 osluns)
DESCRIPTION:UJA Federation of Greater Toronto\nJewish Toronto Calendar\nhtt
 ps://jewishtoronto.com/calendar/associated-hebrew-schools---parent-teacher
 -conferences-kamin-and-posluns-1718900065\n\nAssociated Hebrew Schools - P
 arent-Teacher Conferences (Kamin and Posluns)
DTSTART;TZID=America/Toronto:20250326T150000
DTEND;TZID=America/Toronto:20250326T200000
END:VEVENT
END:VCALENDAR
