BEGIN:VCALENDAR
PRODID:-//eluceo/ical//2.0/EN
VERSION:2.0
CALSCALE:GREGORIAN
BEGIN:VEVENT
UID:588946eb72bf40534d5ff5f40f779bf0
DTSTAMP:20260424T235126Z
SUMMARY:Associated Hebrew Schools - Parent-Teacher Conferences
DESCRIPTION:UJA Federation of Greater Toronto\nJewish Toronto Calendar\nhtt
 ps://jewishtoronto.com/calendar/associated-hebrew-schools---parent-teacher
 -conferences-1718899836\n\nAssociated Hebrew Schools - Parent-Teacher Conf
 erences
DTSTART;TZID=America/Toronto:20241128T150000
DTEND;TZID=America/Toronto:20241128T200000
END:VEVENT
END:VCALENDAR
