BEGIN:VCALENDAR
PRODID:-//eluceo/ical//2.0/EN
VERSION:2.0
CALSCALE:GREGORIAN
BEGIN:VEVENT
UID:674c591f396df1144c0f062a5af93e99
DTSTAMP:20260422T161332Z
SUMMARY:Associated Hebrew Schools - Parent-Teacher Conferences
DESCRIPTION:UJA Federation of Greater Toronto\nJewish Toronto Calendar\nhtt
 ps://jewishtoronto.com/calendar/associated-hebrew-schools---parent-teacher
 -conferences-1718899738\n\nAssociated Hebrew Schools - Parent-Teacher Conf
 erences
DTSTART;TZID=America/Toronto:20241127T030000
DTEND;TZID=America/Toronto:20241127T200000
END:VEVENT
END:VCALENDAR
