BEGIN:VCALENDAR
PRODID:-//eluceo/ical//2.0/EN
VERSION:2.0
CALSCALE:GREGORIAN
BEGIN:VEVENT
UID:bd13ee17f77674613b69dff38f2e36e6
DTSTAMP:20260422T070245Z
SUMMARY:Associated Hebrew Schools - Grade 8 Gradation
DESCRIPTION:UJA Federation of Greater Toronto\nJewish Toronto Calendar\nhtt
 ps://jewishtoronto.com/calendar/associated-hebrew-schools---grade-8-gradat
 ion-1718899419\n\nAssociated Hebrew Schools - Grade 8 Gradation
DTSTART;TZID=America/Toronto:20250623T180000
DTEND;TZID=America/Toronto:20250623T200000
END:VEVENT
END:VCALENDAR
