BEGIN:VCALENDAR
PRODID:-//eluceo/ical//2.0/EN
VERSION:2.0
CALSCALE:GREGORIAN
BEGIN:VEVENT
UID:e3ed65a20d817143575a36db0987bf30
DTSTAMP:20260423T011359Z
SUMMARY:Associated Hebrew School Presents Singing With Sonshine Sunday
DESCRIPTION:UJA Federation of Greater Toronto\nJewish Toronto Calendar\nhtt
 ps://jewishtoronto.com/calendar/associated-hebrew-school-presents-singing-
 with-sonshine-sunday\n\nTime TBD\n\n \n\n \n\n \n\n 
DTSTART;TZID=America/Toronto:20150118T000000
DTEND;TZID=America/Toronto:20150118T000000
END:VEVENT
END:VCALENDAR
