BEGIN:VCALENDAR
PRODID:-//eluceo/ical//2.0/EN
VERSION:2.0
CALSCALE:GREGORIAN
BEGIN:VEVENT
UID:34951567b4a077af7948f140ad17bde4
DTSTAMP:20260423T151405Z
SUMMARY:Associate Hebrew School - Posluns Open House
DESCRIPTION:UJA Federation of Greater Toronto\nJewish Toronto Calendar\nhtt
 ps://jewishtoronto.com/calendar/associate-hebrew-school-posluns-open-house
 \n\nAssociate Hebrew School - Posluns Open House
DTSTART;TZID=America/Toronto:20141026T100000
DTEND;TZID=America/Toronto:20141026T120000
END:VEVENT
END:VCALENDAR
