BEGIN:VCALENDAR
PRODID:-//eluceo/ical//2.0/EN
VERSION:2.0
CALSCALE:GREGORIAN
BEGIN:VEVENT
UID:4b4a947c3ad7e27961bc4473c403648c
DTSTAMP:20260421T192915Z
SUMMARY:Assisted Suicide: A Reform Jewish Response
DESCRIPTION:UJA Federation of Greater Toronto\nJewish Toronto Calendar\nhtt
 ps://jewishtoronto.com/calendar/assisted-suicide-a-reform-jewish-response-
 1479751175\n\nThursday\, December 15 A Temple Sinai and City Shul Program 
 — Assisted Suicide: A Reform Jewish ResponseJoin Rabbi Michael Dolgin in
  dialogue with a representative of the group Dying with Dignity\, the nati
 onal organization advocating for expanding end-of-life choices in Canada. 
 Moderated by Rabbi Elyse Goldstein. Time: 7:30 p.m. Free and all welcome\,
  no registration necessary. Wolfond Centre\, 36 Harbord Street. For more i
 nformation\, visit our website at www.templesinai.net or email programs@..
 .
DTSTART;TZID=America/Toronto:20161215T193000
DTEND;TZID=America/Toronto:20161215T210000
END:VEVENT
END:VCALENDAR
