BEGIN:VCALENDAR
PRODID:-//eluceo/ical//2.0/EN
VERSION:2.0
CALSCALE:GREGORIAN
BEGIN:VEVENT
UID:4579df5269d881f588b342847d8b3754
DTSTAMP:20260424T151947Z
SUMMARY:Assaf Amdursky in Concert
DESCRIPTION:UJA Federation of Greater Toronto\nJewish Toronto Calendar\nhtt
 ps://jewishtoronto.com/calendar/assaf-amdursky-in-concert-1510692749\n\nA 
 special solo concert with one of the most prominent and influential popula
 r artists in Israel\, Assaf Amdursky.\nIn the Al Green Theatre in the Mile
 s Nadal JCC.  This is the first of seven events that will celebrate Israel
 's 70th birthday.
DTSTART;TZID=America/Toronto:20171209T193000
DTEND;TZID=America/Toronto:20171209T220000
END:VEVENT
END:VCALENDAR
