BEGIN:VCALENDAR
PRODID:-//eluceo/ical//2.0/EN
VERSION:2.0
CALSCALE:GREGORIAN
BEGIN:VEVENT
UID:88731bccc3686e8e6afe49c41e6a6447
DTSTAMP:20260419T154049Z
SUMMARY:Ashkenaz Foundation presents Klezmer Masterclass with Lerner & Mogu
 ilevsky
DESCRIPTION:UJA Federation of Greater Toronto\nJewish Toronto Calendar\nhtt
 ps://jewishtoronto.com/calendar/ashkenaz-foundation-presents-klezmer-maste
 rclass-with-lerner-moguilevsky\n\nFeaturing Cesar Lerner and Marcelo Mogui
 levsky (Argentina)\n\nCost: $20\; Advance registration required\n \nJoin 
 Argentina’s Cesar Lerner and Marcelo Moguilevsky for an exciting hands-o
 n musical experience as this dynamic duo presents a masterclass in Klezmer
  music\, Buenos Aires-style. Lerner and Moguilevsky are world-renowned for
  their spellbinding improvisations and inventive re-interpretations of tra
 ditional Klezmer and Yiddish music. This is a rare opportunity for Toronto
  musicians to exp...
DTSTART;TZID=America/Toronto:20150610T190000
DTEND;TZID=America/Toronto:20150610T213000
END:VEVENT
END:VCALENDAR
