BEGIN:VCALENDAR
PRODID:-//eluceo/ical//2.0/EN
VERSION:2.0
CALSCALE:GREGORIAN
BEGIN:VEVENT
UID:0a3093efb13194daa5ce3d0ad2fee15c
DTSTAMP:20260421T212322Z
SUMMARY:Ashkenaz Foundation - Aveva Dese Concert
DESCRIPTION:UJA Federation of Greater Toronto\nJewish Toronto Calendar\nhtt
 ps://jewishtoronto.com/calendar/ashkenaz-foundation-aveva-dese-concert\n\n
 A performance by the Ethiopian-Israeli singer Aveva Dese presented by the 
 Ashkenaz Foundation.
DTSTART;TZID=America/Toronto:20170323T200000
DTEND;TZID=America/Toronto:20170323T220000
END:VEVENT
END:VCALENDAR
