BEGIN:VCALENDAR
PRODID:-//eluceo/ical//2.0/EN
VERSION:2.0
CALSCALE:GREGORIAN
BEGIN:VEVENT
UID:1cc3159eee437300c7d6afdf4759cb23
DTSTAMP:20260421T025920Z
SUMMARY:Ashkenaz Festival
DESCRIPTION:UJA Federation of Greater Toronto\nJewish Toronto Calendar\nhtt
 ps://jewishtoronto.com/calendar/ashkenaz-festival-1533573173\n\nThe 2018 A
 shkenaz Festival will take place Tuesday August 28 through Monday Septembe
 r 3 in Toronto\, at Harbourfront Centre and other venues around the GTA. T
 he Festival will once again feature artists from across Canada and around 
 the world\, including Israel\, Russia\, Poland\, Italy\, Australia\, Brazi
 l\, and the US. Our weeklong celebration will simultaneously showcase dive
 rsity and cross-culturalism within the Jewish music and arts world\, while
  also delving deeply into the Yiddishkayt that has a...
DTSTART;TZID=America/Toronto:20180828T000000
DTEND;TZID=America/Toronto:20180903T235500
END:VEVENT
END:VCALENDAR
