BEGIN:VCALENDAR
PRODID:-//eluceo/ical//2.0/EN
VERSION:2.0
CALSCALE:GREGORIAN
BEGIN:VEVENT
UID:b807547a26b49db7cfcce917ad981957
DTSTAMP:20260421T043256Z
SUMMARY:Art Showcase: Work of Our Hands
DESCRIPTION:UJA Federation of Greater Toronto\nJewish Toronto Calendar\nhtt
 ps://jewishtoronto.com/calendar/art-showcase-work-of-our-hands-1508268201\
 n\nDo you paint\, draw\, embroider\, illustrate? Just Create???\nDon't be 
 left out. Join us for an exhibit of spectacular works!\n 
DTSTART;TZID=America/Toronto:20180422T103000
DTEND;TZID=America/Toronto:20180422T143000
END:VEVENT
END:VCALENDAR
