BEGIN:VCALENDAR
PRODID:-//eluceo/ical//2.0/EN
VERSION:2.0
CALSCALE:GREGORIAN
BEGIN:VEVENT
UID:6f3195fd7c1fd9256aa007e627957a80
DTSTAMP:20260420T123822Z
SUMMARY:Ark Adventures
DESCRIPTION:UJA Federation of Greater Toronto\nJewish Toronto Calendar\nhtt
 ps://jewishtoronto.com/calendar/ark-adventures-1765996849\n\nCome along an
 d take a ride!\n\nArk Adventures is designed for young children (ages birt
 h to 5) and their families to experience Shabbat in community together. Th
 e program is offered on select Saturdays throughout the year.
DTSTART;TZID=America/Toronto:20260110T100000
DTEND;TZID=America/Toronto:20260110T113000
END:VEVENT
END:VCALENDAR
