BEGIN:VCALENDAR
PRODID:-//eluceo/ical//2.0/EN
VERSION:2.0
CALSCALE:GREGORIAN
BEGIN:VEVENT
UID:f43d2ed093ce03f377e72dd6585e3a71
DTSTAMP:20260422T205750Z
SUMMARY:Architecture Parallax: Through the Looking Glass
DESCRIPTION:UJA Federation of Greater Toronto\nJewish Toronto Calendar\nhtt
 ps://jewishtoronto.com/calendar/architecture-parallax-through-the-looking-
 glass\n\nPresented by the Koffler Gallery\n\nCurator: Mona Filip\n\nSUMMER
  OPENING RECEPTION: Thursday\, July 2\, 2015 | 6 – 9 PM | FREE\n\nMontre
 al-based Brazilian-Canadian artist Alexander Pilis develops a new archi
 tectural installation staging the white cube of the gallery as perception 
 tool central to the experience of visual art. Playing with optical illusio
 ns\, reflections and points of view\, a series of theatrical boxes and vie
 wfinders direct the viewer’s performance as both spectator and a...
DTSTART;TZID=America/Toronto:20150702T120000
DTEND;TZID=America/Toronto:20150702T220000
END:VEVENT
END:VCALENDAR
