BEGIN:VCALENDAR
PRODID:-//eluceo/ical//2.0/EN
VERSION:2.0
CALSCALE:GREGORIAN
BEGIN:VEVENT
UID:fbcb4fbd50fb43f30a3db662f643f29e
DTSTAMP:20260420T011758Z
SUMMARY:Anxiety and Depression in Adolescence at Beth Tikvah Synagogue
DESCRIPTION:UJA Federation of Greater Toronto\nJewish Toronto Calendar\nhtt
 ps://jewishtoronto.com/calendar/anxiety-and-depression-in-adolescence-at-b
 eth-tikvah-synagogue-1452174725\n\nGain practical insights on this subject
  and learn about resources from our guest speakers:\n\nDr. David Kreindler
 \, Head of the Division of Youth Psychiatry at Sunnybrook Health Sciences
  Centre and  Linda Conn\, MSW\, RSW\, Social Worker in the Division of Y
 outh Psychiatry at Sunnybrook Health Sciences Centre and Coordinator of th
 e “Fresh Start” Adolescent Day Treatment Programme. \n\nFree to atten
 d.  $5.00 at the door for Non-Members\n\nOpen to the public.\n\nRSVP REQU
 IRED.
DTSTART;TZID=America/Toronto:20160201T193000
DTEND;TZID=America/Toronto:20160201T213000
END:VEVENT
END:VCALENDAR
