BEGIN:VCALENDAR
PRODID:-//eluceo/ical//2.0/EN
VERSION:2.0
CALSCALE:GREGORIAN
BEGIN:VEVENT
UID:b66664b8ee8baa86ee6d40a2a63685de
DTSTAMP:20260423T144605Z
SUMMARY:ANTISEMITISM ON THE LEFT AND THE RIGHT with Yair Rosenberg
DESCRIPTION:UJA Federation of Greater Toronto\nJewish Toronto Calendar\nhtt
 ps://jewishtoronto.com/calendar/antisemitism-on-the-left-and-the-right-wit
 h-yair-rosenberg-1651800289\n\nOraynu Congregation for Humanistic Judaism 
 virtually welcomes noted American journalist YAIR ROSENBERG speaking on AN
 TISEMITISM ON THE LEFT AND THE RIGHT. 
DTSTART;TZID=America/Toronto:20220517T193000
DTEND;TZID=America/Toronto:20220517T210000
END:VEVENT
END:VCALENDAR
