BEGIN:VCALENDAR
PRODID:-//eluceo/ical//2.0/EN
VERSION:2.0
CALSCALE:GREGORIAN
BEGIN:VEVENT
UID:1ff7709acad2572afb6715e1f860b986
DTSTAMP:20260420T040708Z
SUMMARY:Anti-Semitism: Fighting the World’s Oldest Hate in 2018
DESCRIPTION:UJA Federation of Greater Toronto\nJewish Toronto Calendar\nhtt
 ps://jewishtoronto.com/calendar/anti-semitism-fighting-the-worlds-oldest-h
 ate-in-2018-1535032437\n\nInsights into CIJA’s strategy to combat Anti-S
 emitism\n\nFeaturing Steve McDonald and Cyril Levitt\n\nModerator\, Senato
 r Jerry Grafstein
DTSTART;TZID=America/Toronto:20181023T193000
DTEND;TZID=America/Toronto:20181023T213000
END:VEVENT
END:VCALENDAR
