BEGIN:VCALENDAR
PRODID:-//eluceo/ical//2.0/EN
VERSION:2.0
CALSCALE:GREGORIAN
BEGIN:VEVENT
UID:b3c6c6189996d610e33a884c0386b235
DTSTAMP:20260423T172211Z
SUMMARY:Annual Golf Tournament Day: Beit Halochem Canada
DESCRIPTION:UJA Federation of Greater Toronto\nJewish Toronto Calendar\nhtt
 ps://jewishtoronto.com/calendar/annual-golf-tournament-day-beit-halochem-c
 anada-1484933063\n\nAnnual Golf Day at Copper Creek
DTSTART;TZID=America/Toronto:20170803T090000
DTEND;TZID=America/Toronto:20170803T170000
END:VEVENT
END:VCALENDAR
