BEGIN:VCALENDAR
PRODID:-//eluceo/ical//2.0/EN
VERSION:2.0
CALSCALE:GREGORIAN
BEGIN:VEVENT
UID:b96707cff2674d21d669c9e4e8760dca
DTSTAMP:20260421T113627Z
SUMMARY:Annual General Meeting - Toronto Hebrew Memorial Parks
DESCRIPTION:UJA Federation of Greater Toronto\nJewish Toronto Calendar\nhtt
 ps://jewishtoronto.com/calendar/annual-general-meeting---toronto-hebrew-me
 morial-parks-1626170591\n\nAnnual General Meeting of Toronto Hebrew Memori
 al Parks
DTSTART;TZID=America/Toronto:20211114T090000
DTEND;TZID=America/Toronto:20211114T110000
END:VEVENT
END:VCALENDAR
