BEGIN:VCALENDAR
PRODID:-//eluceo/ical//2.0/EN
VERSION:2.0
CALSCALE:GREGORIAN
BEGIN:VEVENT
UID:7d37db3f0f5d5b11ea7add62f55660c7
DTSTAMP:20260420T153317Z
SUMMARY:Annual Emunah Shabbat
DESCRIPTION:UJA Federation of Greater Toronto\nJewish Toronto Calendar\nhtt
 ps://jewishtoronto.com/calendar/annual-emunah-shabbat\n\nFive synagogues a
 cross the city BAYT\, Bnai Torah\, Or Chaim\, Shaarei Shomayim\, Shaarei T
 efillah
DTSTART;TZID=America/Toronto:20140614T000000
DTEND;TZID=America/Toronto:20140614T235500
END:VEVENT
END:VCALENDAR
