BEGIN:VCALENDAR
PRODID:-//eluceo/ical//2.0/EN
VERSION:2.0
CALSCALE:GREGORIAN
BEGIN:VEVENT
UID:7aecb0e2a97b33fd1f02a1953d57fe15
DTSTAMP:20260425T223257Z
SUMMARY:Ancient Wisdom for a New World with Sarah Hurwitz
DESCRIPTION:UJA Federation of Greater Toronto\nJewish Toronto Calendar\nhtt
 ps://jewishtoronto.com/calendar/ancient-wisdom-for-a-new-world-with-sarah-
 hurwitz-1604009325\n\nSarah Hurwitz\, former speech writer for President B
 arack Obama and head speech writer for First Lady Michelle Obama\, discuss
 es Jewish wisdom and spirituality as a tool to help navigate a world irrep
 arably changed by COVID-19. She will share insights and perspectives as so
 meone who once described herself as a &#039\;quintessential lapsed Jew&quo
 t\; but came to explore the modern relevancy of ancient Jewish insights an
 d scripture.  Pre-registration required.\n\nSarah Hurwitz is an American s
 peechwriter\,...
DTSTART;TZID=America/Toronto:20201111T194500
DTEND;TZID=America/Toronto:20201111T204500
END:VEVENT
END:VCALENDAR
