BEGIN:VCALENDAR
PRODID:-//eluceo/ical//2.0/EN
VERSION:2.0
CALSCALE:GREGORIAN
BEGIN:VEVENT
UID:e52ce02b3cff96d3fd715c5648b308ec
DTSTAMP:20260426T024518Z
SUMMARY:An ORT evening celebrating the Righteous Among the Nations
DESCRIPTION:UJA Federation of Greater Toronto\nJewish Toronto Calendar\nhtt
 ps://jewishtoronto.com/calendar/an-ort-evening-celebrating-the-righteous-a
 mong-the-nations\n\nLive performance - band and film screening of The Resc
 ue\, a documentary about Jose Arturo Castallanos\, recognized with the tit
 le of "Righteous Among the Nations" by Yad Vashem in 2010\, for saving tho
 usands of Jewish people during the Holocaust.
DTSTART;TZID=America/Toronto:20181206T193000
DTEND;TZID=America/Toronto:20181206T213000
END:VEVENT
END:VCALENDAR
